BEGIN:VCALENDAR
VERSION:2.0
PRODID:-//jEvents 1.5 for Joomla//EN
BEGIN:VEVENT
UID:3bf7aab5d414420b8f2b451a3d0edc54
CATEGORIES:Condiviso
SUMMARY:Consiglio di Presidenza dell’Unione delle famiglie Francescane d’Italia
LOCATION:Assisi – Casa leonori
DESCRIPTION;ENCODING=QUOTED-PRINTABLE:

DTSTAMP:20260424T205826
DTSTART:20141011T000000
DTEND:20141011T235959
SEQUENCE:0
TRANSP:OPAQUE
END:VEVENT
END:VCALENDAR