BEGIN:VCALENDAR
VERSION:2.0
PRODID:-//jEvents 1.5 for Joomla//EN
BEGIN:VEVENT
UID:39a327b3e8d308b9d77e2b09a9d0c7ac
CATEGORIES:Condiviso
SUMMARY:Ottobre Francescano
LOCATION:
DESCRIPTION;ENCODING=QUOTED-PRINTABLE:\n\nScarica la locandina\n
CONTACT:Per info: 
 
 
 
 
 Questo indirizzo e-mail è protetto dallo spam bot. Abilita Javascript per vederlo.
 
 
  - Tel. 3397143662

DTSTAMP:20260424T192121
DTSTART:20140917T000000
DTEND:20141109T235959
SEQUENCE:0
TRANSP:OPAQUE
END:VEVENT
END:VCALENDAR