BEGIN:VCALENDAR
VERSION:2.0
PRODID:-//jEvents 1.5 for Joomla//EN
BEGIN:VEVENT
UID:58ca1beb8145b30b1cfdd0314c61074d
CATEGORIES:Condiviso
SUMMARY:ALESSANDRO SOBIESKI NEL TERZO CENTENARIO DELLA MORTE (1714 - 2014)
LOCATION:Sala delle Conferenze del Convento dei Frati Cappuccini in Via Vittorio Ven
 eto 21
DESCRIPTION;ENCODING=QUOTED-PRINTABLE:\n\nScarica L'Invito\n
CONTACT:tel. 06 88.803.675 - www.cappuccinilazio.com - 
 
 
 
 
 Questo indirizzo e-mail è protetto dallo spam bot. Abilita Javascript per vederlo.
 
 
 

DTSTAMP:20260424T192121
DTSTART:20141119T160000
DTEND:20141119T150000
SEQUENCE:0
TRANSP:OPAQUE
END:VEVENT
END:VCALENDAR