BEGIN:VCALENDAR
VERSION:2.0
PRODID:-//jEvents 1.5 for Joomla//EN
BEGIN:VEVENT
UID:44e795ba07c8206d91f8ffea9b8836a0
CATEGORIES:Condiviso
SUMMARY:Capitolo ProvincialeProvincia di Palermo
LOCATION:
DESCRIPTION;ENCODING=QUOTED-PRINTABLE:

DTSTAMP:20260422T125728
DTSTART:20150407T000000
DTEND:20150410T235959
SEQUENCE:0
TRANSP:OPAQUE
END:VEVENT
END:VCALENDAR