BEGIN:VCALENDAR
VERSION:2.0
PRODID:-//jEvents 1.5 for Joomla//EN
BEGIN:VEVENT
UID:7231b8c7ba3c8a8b88cb833b61d488ee
CATEGORIES:Condiviso
SUMMARY:Capitolo Provinciale - Provincia di Puglia
LOCATION:
DESCRIPTION;ENCODING=QUOTED-PRINTABLE:

DTSTAMP:20260422T125727
DTSTART:20150427T000000
DTEND:20150501T235959
SEQUENCE:0
TRANSP:OPAQUE
END:VEVENT
END:VCALENDAR