BEGIN:VCALENDAR
VERSION:2.0
PRODID:-//jEvents 1.5 for Joomla//EN
BEGIN:VEVENT
UID:34cc23777875c9823da98e4091adc799
CATEGORIES:Condiviso
SUMMARY:DAL MONDO ALL’ ITALIA:  COMPRENSIONE E INTEGRAZIONE DELLE  DIFFERENTI CULTURE NELLE COMUNITA’  DI VITA CONSACRATA ED ECCLESIALE
LOCATION:Pontificia Facoltà Teologica Marianum (Aula magna) Viale Trenta Aprile, 6
DESCRIPTION;ENCODING=QUOTED-PRINTABLE:Istituto Edith Stein\nEdi.S.I.\nDAL MONDO ALL’ ITALIA:\nCOMPRENSIONE E IN
 TEGRAZIONE DELLE \nDIFFERENTI CULTURE NELLE COMUNITA’ \nDI VITA CONSACRAT
 A ED ECCLESIALE\n\n\n \n\n\nSeminario di studio realizzato in collaborazio
 ne tra l’Edi.S.I.\n\n\ne la Pontificia Facoltà Teologica “Marianum”\
 n\n20 e 21 febbraio 2015 - ROMA\nPontificia Facoltà Teologica Marianum (Au
 la magna)\nViale Trenta Aprile, 6\nVenerdì  20  febbraio 2015 – ore 15
 ,00 – 18.00\n\n\n● Saluto di P. Salvatore M. Perrella osm -  Preside d
 ella Facoltà Teologica Marianum\n\n\n● 1° Relazione : “La tovaglia di
  Pietro” (Atti 13,11).\n\n\nIl difficile passaggio dalla propria cultura 
 alla cultura della terra di missione.\n\n\nRelatore : P. Stefano M. Mazzoni
  osm – Dr. In Teologia Biblica – Docente alla Facoltà Teologica  Mari
 anum – Socio del Provinciale Provincia SS. Annunziata - Siena\n\n\n● 2
   Relazione : La fatica dell’accoglienza, nella società italiana, delle
   persone straniere in Vita Consacrata e presbiterale, e viceversa. \n\n\nR
 elatore : dr. Barbara Salvalai –  Psicologa psicoterapeuta – Movimento 
 CL -  Presidente Vicario Edi.S.I. –  Consigliera di Diaconia, Associazio
 ne Nazionale del Counseling di  Ispirazione Cristiana - Insegnante e Coordi
 natrice della Dinamica di  Gruppo Formativo nella Scuola Edi.S.I. - Milano\
 n\n\n● 3° Relazione : “Missionari/e”  in Italia : chi viene per il 
 lavoro apostolico, chi viene per la Formazione.\n\n\nRelatore : P. Pier Ang
 elo Manenti ofmCap – Frati Minori Cappuccini – Lic.do in Teologia Moral
 e – Dr. in Scienze e  Tecniche di Psicologia della Comunicazione – Cons
 igliere di Diaconia,  Associazione Nazionale del Counseling di Ispirazione 
 Cristiana -  Counselor, Consulente Edi.S.I. e Insegnante nella Scuola Edi.S
 .I.  di  Formazione in Scienze umane nella Vita Consacrata e Comunità Edu
 cative  Ecclesiali – Presidente Vicario Edi.S.I. – Milano\nSabato 21 fe
 bbraio 2015 - ore 9.00 – 13.00\n\n\nTavola rotonda : Esperienze di “mis
 sionari/e” in Italia : vissuti personali e Comunitari \n\n\n Coordinatore
   : P. Sergio M. Ziliani osm – Provinciale dei Servi di Maria – Provin
 cia SS. Annunziata -Consigliere Edi.S.I. – Licenza in Spiritualità – T
 odi  (Perugia)\n\n\n● Africa –  Sr. Gloriose Nshimirimana - Suore Mis
 sionarie di S. Gemma - Counselor Edi.S.I. e Animatrice Vocazionale e missio
 naria, Lucca, dal Burundi    e  Luaco P. Victor Zacarias - Poveri Servi
  della Divina Provvidenza don Calabria Vice Parroco,  Counselor Edi.S.I.,V
 erona, dall’Angola\n\n\n● Paesi dell’Est – P. Gianangelo Maffiolett
 i, Consigliere Provinciale Missionari Monfortani – Counselor e Insegnante
  nella Scuola Edi.S.I. - Roma\n\n\n● America Latina –  Fra Francisco L
 opes De Sousa Neto ofmCap – Responsabile Generale dell’Ufficio Comunica
 zioni del suo Ordine . Roma, dal Brasile  e Suor Rosa Beatriz But – Suor
 e di San Giuseppe Bonaerensi – Superiora di Comunità –  Baccalaureato 
 con orientamento Pedagogico – Animazione vocazionale -  Genova, dall’Ar
 gentina\n\n\n● Oriente – Suor M. Minimol  Maniamprayil - Suore Figlie 
 di San Francesco – Magistero in Scienze religiose ad in  indirizzo Pedago
 gico -  Catechista parrocchiale -  Counselor Edi.S.I. -  Lucca , dall’I
 ndia\n\n\n● Realtà Monastiche  – Suor M. Lourdes Maligaya - Priora Mo
 nache Mantellate Serve di Maria Vergine Addolorata – Roma, dalle Filippin
 e.\n\n\n● Comunità Interculturali in Italia – don Marco Grega – Prov
 inciale Servi della Carità Opera don Guanella - Provincia Sacro Cuore – 
 Como\n\n\ne P. Antonio Piccolo - Ordine Chierici Regolari della Madre di Di
 o - Maestro dei Novizi,  Responsabile Progetto Vocazionale "Samuel" per il 
 suo Ordine - Membro  Centro  Diocesano Vocazioni Diocesi Trani, Barletta,B
 isceglie -   Counselor Edi.S.I..-  S.Ferdinando di Puglia (Foggia)\nSabat
 o 21 febbraio 2015 - ore 14.30 – 17.00\n\n\n● 4° Relazione -  Povert
  : lo spirito evangelico nelle diverse culture\n\n\nRelatore : Don Ezio Ri
 satti sdb – Salesiano – Psicologo psicoterapeuta - Vice Presidente Isti
 tuto Edith  Stein Edi.S.I. - Preside della Scuola Superiore di Formazione  
 Rebaudengo di Torino  - Torino\n\n\n●  5° Relazione -  Obbedienza : d
 ialogare e tacere nel reciproco rispetto culturale\n\n\nRelatore : Dr. Graz
 ia Maria Costa : Medico chirurgo Igienista, Pneumologo e Psicologa della  C
 omunicazione  – Dipl. di Esperto in Teologia Pastorale (PUL) -  Consigli
 era delegata per la Formazione nel suo Istituto Secolare – Vice  Presiden
 te di Diaconia, Associazione Nazionale del Counseling di  Ispirazione Crist
 iana – Preside e Insegnante nella Scuola Edi.S.I.  -  Presidente dell’
 Istituto Edith Stein Edi.S.I. – Genova\n\n\n● 6° Relazione -  Castit
  : paternità e maternità spirituale nelle diverse culture\n\n\nRelatore 
 : P. Paolo M. Orlandini osm – Servi di Maria – Consigliere Generale del
  suo Ordine – già Maestro  dello Studentato Internazionale - Presidente 
 della Commissione Liturgica  Internazionale del suo Ordine (CLIOS) - Dr. in
  Lettere e in Psicologia  della Comunicazione - Consigliere ed Economo di D
 iaconia, Associazione  Nazionale del Counseling di Ispirazione Cristiana - 
 Insegnante nella  Scuola Edi.S.I. per Consulenti di Formazione in Scienze u
 mane nella Vita  Consacrata –  Presidente Vicario Edi.S.I. – Roma\n\n\
 n \nIn conclusione, distribuzione degli attestati di partecipazione.\nCoor
 dinatore del Seminario : P. Paolo M. Orlandini osm \nwww.edisi.eu \n \nPER
  L’ISCRIZIONE\n\n\nIl Seminario è aperto a Religiosi/e che si preparano 
 alla Professione; agli  Animatori/Animatrici Vocazionali; ai  Formatori/Fo
 rmatrici di Comunità; a  chi è già impegnato nell’Accompagnamento spir
 ituale; agli  Educatori/Educatrici nelle diverse realtà Ecclesiali (Religi
 ose/si,  Sacerdoti, Missionarie/ri, Monache/ci, appartenenti a Istituti Sec
 olari,  a Società di Vita Apostolica, all’Ordo Virginum, laici, ecc..) e
  a  coloro che si preparano a diventare Formatori  o Animatori.\n\n\nLe is
 crizioni devono pervenire possibilmente entro il 15 febbraio 2015 a\n\n\nIs
 tituto Edith Stein – Edi.S.I.\nVia Curtatone 2 int. 5\n16122 Genova\nTel.
  e fax   010. 81.11.56 \n(ore 9 -12 e 14,30-16,30)\ncell. 33850.75.610  
 e 338280.76.23\ne mail   
 
 
 
 
 Questo indirizzo e-mail è protetto da
 llo spam bot. Abilita Javascript per vederlo.
 
 
  e 
 
 
 
 
 Questo indi
 rizzo e-mail è protetto dallo spam bot. Abilita Javascript per vederlo.
 

  
 \n\n\nLa quota di iscrizione è di Є (euro) 60  e il versamento si pu
  effettuare tramite il c.c.p.  n° 95616900 intestato a: Edi.S.I. - Istitu
 to Edith Stein (indirizzo come  sopra).\n\n\nIl pranzo potrà essere effett
 uato al sacco nelle aule o nei giardini dello stesso Marianum.\n\n\nPer ult
 eriori informazioni e per chi necessita di ospitalità a Roma, telefonare a
 lla Sede Edi.S.I. (vedi sopra).\n\n\nI Seminari Edi.S.I. possono essere rip
 roposti in Comunità che ne facciano richiesta all’Edi.S.I.\n\n\nInoltre,
  le  Comunità che intendano offrire ai propri membri l’opportunità di u
 n  tempo di Anno sabbatico o di ri-motivazione vocazionale possono  rivolge
 rsi all’Edi.S.I. per il Programma residenziale “FSP” (Formazione Perm
 anente Specifica) da realizzarsi in Casa Raffael.\n\n\n \n\n\nwww.edisi.eu
  \n\n\n
CONTACT:www.edisi.eu 

DTSTAMP:20260424T192124
DTSTART:20150220T000000
DTEND:20150221T235959
SEQUENCE:0
TRANSP:OPAQUE
END:VEVENT
END:VCALENDAR