BEGIN:VCALENDAR
VERSION:2.0
PRODID:-//jEvents 1.5 for Joomla//EN
BEGIN:VEVENT
UID:1e22d308a87b6acbfcf7253120910695
CATEGORIES:Condiviso
SUMMARY:Assemblea programmatica del Segretariato Fraternità-Formazione. 
LOCATION:ROMA – VIA CAIROLI
DESCRIPTION;ENCODING=QUOTED-PRINTABLE:
CONTACT:fr. Claudio Passavan-ti cell. 339 1415327 
 
 
 
 
 Questo indirizzo e-mail è protetto dallo spam bot. Abilita Javascript per vederlo.
 
 
  

DTSTAMP:20260422T064557
DTSTART:20150508T000000
DTEND:20150508T235959
SEQUENCE:0
TRANSP:OPAQUE
END:VEVENT
END:VCALENDAR