BEGIN:VCALENDAR
VERSION:2.0
PRODID:-//jEvents 1.5 for Joomla//EN
BEGIN:VEVENT
UID:b2699876ce002f91ef6b93e7b41b82d8
CATEGORIES:Condiviso
SUMMARY:Convegno dei gio-vani in accoglienza vocazionale
LOCATION:Assisi
DESCRIPTION;ENCODING=QUOTED-PRINTABLE:
CONTACT:fr. Claudio Passavan-ti cell. 339 1415327 
 
 
 
 
 Questo indirizzo e-mail è protetto dallo spam bot. Abilita Javascript per vederlo.
 
 
  

DTSTAMP:20260422T045314
DTSTART:20150530T000000
DTEND:20150602T235959
SEQUENCE:0
TRANSP:OPAQUE
END:VEVENT
END:VCALENDAR