BEGIN:VCALENDAR
VERSION:2.0
PRODID:-//jEvents 1.5 for Joomla//EN
BEGIN:VEVENT
UID:ac764f2adaa1c9f98e8660000d52a7e1
CATEGORIES:Condiviso
SUMMARY:134ª Assemblea CIMP Cap
LOCATION:DRUENTO - TO
DESCRIPTION;ENCODING=QUOTED-PRINTABLE:
CONTACT:fr. Ciro M. Polverino cell. 347 9433519; fr. Francesco Colacelli cell. 335 6868232 
 
 
 
 
 Questo indirizzo e-mail è protetto dallo spam bot. Abilita Javascript per vederlo.
 
 
 

DTSTAMP:20260422T064557
DTSTART:20150603T000000
DTEND:20150606T235959
SEQUENCE:0
TRANSP:OPAQUE
END:VEVENT
END:VCALENDAR