BEGIN:VCALENDAR
VERSION:2.0
PRODID:-//jEvents 1.5 for Joomla//EN
BEGIN:VEVENT
UID:3b41775c19cfe603b93441c45e5143fd
CATEGORIES:Condiviso
SUMMARY:Incontro dei fratelli laici CIMP Cap con il Ministro generale
LOCATION:Roma-Via Veneto
DESCRIPTION;ENCODING=QUOTED-PRINTABLE:
CONTACT:Info fr. Ciro M. Pol-verino cell. 347 9433519; fr. France-sco Colacelli cell. 335 6868232 cimpcap.segretario@fraticappuc

DTSTAMP:20260422T064558
DTSTART:20160430T000000
DTEND:20160430T235959
SEQUENCE:0
TRANSP:OPAQUE
END:VEVENT
END:VCALENDAR