BEGIN:VCALENDAR
VERSION:2.0
PRODID:-//jEvents 1.5 for Joomla//EN
BEGIN:VEVENT
UID:2a57a0e537be1202ece14432e93a7772
CATEGORIES:Condiviso
SUMMARY:Consiglio di Presidenza Unione Famiglie Francescane d’Italia
LOCATION:Assisi – Casa Leonori
DESCRIPTION;ENCODING=QUOTED-PRINTABLE:
X-EXTRAINFO:Info fr. Ciro M. Polverino cell. 347 9433519; fr. Francesco Colacelli cell. 335 6868232 
 
 
 
 
 Questo indirizzo e-mail è protetto dallo spam bot. Abilita Javascript per vederlo.
 
 
 
DTSTAMP:20260422T064604
DTSTART:20151009T000000
DTEND:20151009T235959
SEQUENCE:0
TRANSP:OPAQUE
END:VEVENT
END:VCALENDAR