BEGIN:VCALENDAR
VERSION:2.0
PRODID:-//jEvents 1.5 for Joomla//EN
BEGIN:VEVENT
UID:042023fce00358384183a9ec76818fea
CATEGORIES:Condiviso
SUMMARY:Capitolo elettivo della Provincia di Palermo
LOCATION:
DESCRIPTION;ENCODING=QUOTED-PRINTABLE:

DTSTAMP:20260422T065455
DTSTART:20160329T000000
DTEND:20160329T235959
SEQUENCE:0
TRANSP:OPAQUE
END:VEVENT
END:VCALENDAR