BEGIN:VCALENDAR
VERSION:2.0
PRODID:-//jEvents 1.5 for Joomla//EN
BEGIN:VEVENT
UID:312b26c14c982a75f31e73244c8b830c
CATEGORIES:Condiviso
SUMMARY:Capitolo elettivo della Provincia dell’Umbria
LOCATION:
DESCRIPTION;ENCODING=QUOTED-PRINTABLE:

DTSTAMP:20260422T045315
DTSTART:20160516T000000
DTEND:20160520T235959
SEQUENCE:0
TRANSP:OPAQUE
END:VEVENT
END:VCALENDAR