BEGIN:VCALENDAR
VERSION:2.0
PRODID:-//jEvents 1.5 for Joomla//EN
BEGIN:VEVENT
UID:85ab9d72ae6cd351c9431d70f460faff
CATEGORIES:Condiviso
SUMMARY:VIII CPO -Consiglio Plenario dell’Ordine
LOCATION:Roma - Collegio San Lorenzo
DESCRIPTION;ENCODING=QUOTED-PRINTABLE:\n\nTema: La grazia di lavorare.\n
X-EXTRAINFO:Info fr. Ciro M. Pol-verino cell. 347 9433519; fr. France-sco Colacelli cell. 335 6868232 
 
 
 
 
 Questo indirizzo e-mail è protetto dallo spam bot. Abilita Javascript per vederlo.
 
 
 
DTSTAMP:20260424T180642
DTSTART:20151026T000000
DTEND:20151121T235959
SEQUENCE:0
TRANSP:OPAQUE
END:VEVENT
END:VCALENDAR