BEGIN:VCALENDAR
VERSION:2.0
PRODID:-//jEvents 1.5 for Joomla//EN
BEGIN:VEVENT
UID:8383b4c8db4695292229a06802b5fb86
CATEGORIES:Condiviso
SUMMARY:XXII Convegno della Società Italiana per lo Studio del Pensiero Medievale
LOCATION:Milano
DESCRIPTION;ENCODING=QUOTED-PRINTABLE:\n\nNutrire il corpo, nutrire l’anima nel Medioevo.\n\n\nScarica il Progr
 amma in PDF\n

DTSTAMP:20260422T045153
DTSTART:20150930T000000
DTEND:20151001T235959
SEQUENCE:0
TRANSP:OPAQUE
END:VEVENT
END:VCALENDAR