BEGIN:VCALENDAR
VERSION:2.0
PRODID:-//jEvents 1.5 for Joomla//EN
BEGIN:VEVENT
UID:45fd44e74ac322009ff63f7edf7ebe6e
CATEGORIES:Condiviso
SUMMARY:Segretariato Fraternità-Missione: Incontro di zona Centro Italia.
LOCATION:Assisi
DESCRIPTION;ENCODING=QUOTED-PRINTABLE:\n\nRelatore: fr. Dino Dozzi \n

DTSTAMP:20260424T180549
DTSTART:20151102T000000
DTEND:20151103T235959
SEQUENCE:0
TRANSP:OPAQUE
END:VEVENT
END:VCALENDAR