BEGIN:VCALENDAR
VERSION:2.0
PRODID:-//jEvents 1.5 for Joomla//EN
BEGIN:VEVENT
UID:3f985879269e93f2548eb72061af4d25
CATEGORIES:Condiviso
SUMMARY: Segretariato Fraternità-Missione: Incontro di zona del Sud Italia.
LOCATION:San Giovanni Rotondo (FG)
DESCRIPTION;ENCODING=QUOTED-PRINTABLE:\n\nRelatore: P. Luigi Gaetani\n

DTSTAMP:20260422T045140
DTSTART:20160509T000000
DTEND:20160510T235959
SEQUENCE:0
TRANSP:OPAQUE
END:VEVENT
END:VCALENDAR