BEGIN:VCALENDAR
VERSION:2.0
PRODID:-//jEvents 1.5 for Joomla//EN
BEGIN:VEVENT
UID:3f3c12c4627615283022453f23e0656a
CATEGORIES:Condiviso
SUMMARY:Convegno annuale di formazione per i responsabili e collaboratori provinciali PGV.
LOCATION:Assisi
DESCRIPTION;ENCODING=QUOTED-PRINTABLE:
CONTACT:Info fr. Claudio Passavanti cell. 339 1415327 
 
 
 
 
 Questo indirizzo e-mail è protetto dallo spam bot. Abilita Javascript per vederlo.
 
 
 

DTSTAMP:20260424T180642
DTSTART:20151109T000000
DTEND:20151113T235959
SEQUENCE:0
TRANSP:OPAQUE
END:VEVENT
END:VCALENDAR