BEGIN:VCALENDAR
VERSION:2.0
PRODID:-//jEvents 1.5 for Joomla//EN
BEGIN:VEVENT
UID:bcfe33c7f19478e14e018778db666fe4
CATEGORIES:Condiviso
SUMMARY:Incontro di zona Nord Italia
LOCATION:Camposanpiero (Padova)
DESCRIPTION;ENCODING=QUOTED-PRINTABLE:
CONTACT:fr. Giordano Ferri cell. 348 2855610 
 
 
 
 
 Questo indirizzo e-mail è protetto dallo spam bot. Abilita Javascript per vederlo.
 
 
 

DTSTAMP:20260422T080906
DTSTART:20160307T000000
DTEND:20160308T235959
SEQUENCE:0
TRANSP:OPAQUE
END:VEVENT
END:VCALENDAR