BEGIN:VCALENDAR
VERSION:2.0
PRODID:-//jEvents 1.5 for Joomla//EN
BEGIN:VEVENT
UID:9adc4ce3c9363b4ff56962b716a1892e
CATEGORIES:Condiviso
SUMMARY:137ª Assemblea  CIMP Cap
LOCATION:liguria
DESCRIPTION;ENCODING=QUOTED-PRINTABLE:
CONTACT:Info fr. Ciro M. Polverino cell. 347 9433519; fr. Francesco Colacelli cell. 335 6868232 cimpcap.segretario@fraticappuc

DTSTAMP:20260422T030209
DTSTART:20160608T000000
DTEND:20160611T235959
SEQUENCE:0
TRANSP:OPAQUE
END:VEVENT
END:VCALENDAR