BEGIN:VCALENDAR
VERSION:2.0
PRODID:-//jEvents 1.5 for Joomla//EN
BEGIN:VEVENT
UID:e3e375f64bb74e00161549acb80a3da3
CATEGORIES:Condiviso
SUMMARY:SOLIDARIETÀ A MILANO Festa al convento dei Frati missionari “Ripartiamo insieme”
LOCATION:
DESCRIPTION;ENCODING=QUOTED-PRINTABLE:\n\nhttps://www.milanopost.info/2021/05/28/solidarieta-a-milano-festa-al-co
 nvento-dei-frati-missionari-ripartiamo-insieme/\n

DTSTAMP:20260421T103539
DTSTART:20210620T103000
DTEND:20210620T150000
SEQUENCE:0
TRANSP:OPAQUE
END:VEVENT
END:VCALENDAR