BEGIN:VCALENDAR
VERSION:2.0
PRODID:-//jEvents 1.5 for Joomla//EN
BEGIN:VEVENT
UID:ad0bb45a4093c6369d96b85c84a42ccc
CATEGORIES:Condiviso
SUMMARY:151ª Assemblea Generale CIMP Cap
LOCATION:Torino
DESCRIPTION;ENCODING=QUOTED-PRINTABLE:\n\n151ª Assemblea Generale CIMP Cap - Torino, 12-14 novembre 2021\n

DTSTAMP:20260421T215505
DTSTART:20211112T000000
DTEND:20211114T235959
SEQUENCE:0
TRANSP:OPAQUE
END:VEVENT
END:VCALENDAR