BEGIN:VCALENDAR
VERSION:2.0
PRODID:-//jEvents 1.5 for Joomla//EN
BEGIN:VEVENT
UID:b2ddf093675ef10851da3b6477fcb941
CATEGORIES:Condiviso
SUMMARY:Assemblea Generale CISM
LOCATION:Torino
DESCRIPTION;ENCODING=QUOTED-PRINTABLE:\n\nAssemblea Generale CISM\n

DTSTAMP:20260421T201105
DTSTART:20211108T000000
DTEND:20211111T235959
SEQUENCE:0
TRANSP:OPAQUE
END:VEVENT
END:VCALENDAR