BEGIN:VCALENDAR
VERSION:2.0
PRODID:-//jEvents 1.5 for Joomla//EN
BEGIN:VEVENT
UID:25feda0429b35fd4fd55174ed2daef51
CATEGORIES:Condiviso
SUMMARY:Convegno internazionale sulla Beata Maria Lorenza Longo
LOCATION:Napoli
DESCRIPTION;ENCODING=QUOTED-PRINTABLE:\n\nConvegno internazionale sulla Beata Maria Lorenza Longo\n

DTSTAMP:20260421T170212
DTSTART:20211022T000000
DTEND:20211023T235959
SEQUENCE:0
TRANSP:OPAQUE
END:VEVENT
END:VCALENDAR