BEGIN:VCALENDAR
VERSION:2.0
PRODID:-//jEvents 1.5 for Joomla//EN
BEGIN:VEVENT
UID:4fed541d597c9dc25beca5ba82817876
CATEGORIES:Condiviso
SUMMARY:Consiglio di Presidenza
LOCATION:
DESCRIPTION;ENCODING=QUOTED-PRINTABLE:\n\nConsiglio di Presidenza\n

DTSTAMP:20260423T120523
DTSTART:20210730T000000
DTEND:20210730T235959
SEQUENCE:0
TRANSP:OPAQUE
END:VEVENT
END:VCALENDAR