BEGIN:VCALENDAR
VERSION:2.0
PRODID:-//jEvents 1.5 for Joomla//EN
BEGIN:VEVENT
UID:8097111c2e3a55034cec5c3285e7d40c
CATEGORIES:Condiviso
SUMMARY:Domenico Fiasella: pittore per i francescani
LOCATION:Convento dei Frati Minori Cappuccini di Monterosso al Mare
DESCRIPTION;ENCODING=QUOTED-PRINTABLE:Programma dettagliato\nSabato 2 ottobre 2021\nConvento Frati Minori Cappucc
 ini di Monterosso al Mare\n\n\n\n\n9.45 Accoglienza\n\n\n10.00 –10.30 Sal
 uti Iniziali \nPadre Renato Brenz Verca – Custode del Convento di Montero
 sso al Mare.\nMons. Paolo Cabano – Direttore Ufficio per l’Arte Sacra e
  i Beni Culturali della \nDiocesi della Spezia – Sarzana – Brugnato.\nE
 manuele Moggia – Sindaco di Monterosso al Mare.\nMarinella Curre Caporusc
 io – Presidente FAI Delegazione della Spezia.\n\n\n10.30 – 11.00 Introd
 uce e Coordina\nPadre Vittorio Casalino – Responsabile dei Beni Artistici
  e Culturali della Provincia dei Frati Cappuccini di Genova.\n\n\n11.00 –
  11.40\nFranco Bonatti – Accademia Lunigianese di Scienze G. Capellini.\n
 Domenico Fiasella e le Osservanze francescane in Liguria.\n\n\n11.40 – 12
 .15\nFederico Baldini – Università di Pisa.\nIl ciclo di dipinti di Fias
 ella e Casoni nel Santuario di Nostra Signora del Monte in Genova.\n\n\n12.
 15\nAndrea Moruzzo – Museo Diocesano di Sarzana.\nIl dipinto di Domenico 
 Fiasella per il Convento dei Cappuccini di Sarzana.\n\n\n13.00 – 14.30 Pa
 usa Pranzo\n\n\n14.30 Introduce e Coordina\nPaola Martini – Direttrice de
 l Museo Diocesano di Genova.\n14.45 – 15.20\nDaphne Ferrero – Luca Picc
 ardo – Museo dei Cappuccini di Genova.\nIl caso di un “Convento museali
 zzato”: San Francesco di Voltri e il suo Fiasella.\n\n\n15.20 – 16.00\n
 Barbara Sisti – Martina Peonia – Simona Marchini – Museo Diocesano di
  Sarzana.\nI dipinti del Fiasella conservati al Museo Diocesano di Sarzana.
 \n\n\n16.00 Conclusioni\n\n\n16.15 Visita al Convento dei Cappuccini di Mon
 terosso al Mare\nPadre Renato Brenz Verca – Custode del Convento di Monte
 rosso al Mare.\nAlberto Cipelli – Architetto\n17.00 Santa Messa prefestiv
 a in onore di San Francesco \npresieduta da S. E. Rev.ma Mons. Luigi Ernest
 o Palletti, Vescovo diocesano.\n
CONTACT:prenotazioni: 
 
 
 
 
 Questo indirizzo e-mail è protetto dallo spam bot. Abilita Javascript per vederlo.
 
 
 , 0187/625174
X-EXTRAINFO:Si ricorda che l’accesso sarà consentito solo con il GREEN PASS, in ottemperanza alle Disposizioni Governative vigenti (D.L. del 23 luglio 2021).
DTSTAMP:20260421T183119
DTSTART:20211002T000000
DTEND:20211002T235959
SEQUENCE:0
TRANSP:OPAQUE
END:VEVENT
END:VCALENDAR