BEGIN:VCALENDAR
VERSION:2.0
PRODID:-//jEvents 1.5 for Joomla//EN
BEGIN:VEVENT
UID:224554bed7ca9510d367a4151283a49e
CATEGORIES:Condiviso
SUMMARY:Consiglio di Presidenza Unione Famiglie Francescane
LOCATION:Roma
DESCRIPTION;ENCODING=QUOTED-PRINTABLE:\n\nConsiglio di Presidenza Unione Famiglie Francescane\n

DTSTAMP:20260421T215426
DTSTART:20211123T000000
DTEND:20211123T235959
SEQUENCE:0
TRANSP:OPAQUE
END:VEVENT
END:VCALENDAR