BEGIN:VCALENDAR
VERSION:2.0
PRODID:-//jEvents 1.5 for Joomla//EN
BEGIN:VEVENT
UID:7dff4287b876cb88e2343a2ebcf64d69
CATEGORIES:Condiviso
SUMMARY:Consiglio di Presidenza CIMPCap
LOCATION:Online
DESCRIPTION;ENCODING=QUOTED-PRINTABLE:\n\nConsiglio di Presidenza CIMPCap\n

DTSTAMP:20260421T202119
DTSTART:20211104T000000
DTEND:20211104T235959
SEQUENCE:0
TRANSP:OPAQUE
END:VEVENT
END:VCALENDAR