BEGIN:VCALENDAR
VERSION:2.0
PRODID:-//jEvents 1.5 for Joomla//EN
BEGIN:VEVENT
UID:9921f08ea2a2e08c2b33a61f6ef2aa73
CATEGORIES:Condiviso
SUMMARY:153ª Assemblea CIMPCap
LOCATION:Napoli
DESCRIPTION;ENCODING=QUOTED-PRINTABLE:\n\n\n

DTSTAMP:20260421T045023
DTSTART:20220602T000000
DTEND:20220604T235959
SEQUENCE:0
TRANSP:OPAQUE
END:VEVENT
END:VCALENDAR