BEGIN:VCALENDAR
VERSION:2.0
PRODID:-//jEvents 1.5 for Joomla//EN
BEGIN:VEVENT
UID:5d4f0fff91b99ce75604f9933c685a53
CATEGORIES:Condiviso
SUMMARY:Convegno Formatori e Postulanti 
LOCATION:Assisi
DESCRIPTION;ENCODING=QUOTED-PRINTABLE:\n\nConvegno Formatori e Postulanti - Assisi 24-28 gennaio 2022\n

DTSTAMP:20260421T170955
DTSTART:20220124T000000
DTEND:20220128T235959
SEQUENCE:0
TRANSP:OPAQUE
END:VEVENT
END:VCALENDAR