BEGIN:VCALENDAR
VERSION:2.0
PRODID:-//jEvents 1.5 for Joomla//EN
BEGIN:VEVENT
UID:1cde87062267efe700634483092d371e
CATEGORIES:Condiviso
SUMMARY:Commemorazione del Venerabile Padre Gesualdo da Reggio Calabria
LOCATION:
DESCRIPTION;ENCODING=QUOTED-PRINTABLE:\n

DTSTAMP:20260421T170253
DTSTART:20220127T000000
DTEND:20220130T235959
SEQUENCE:0
TRANSP:OPAQUE
END:VEVENT
END:VCALENDAR