BEGIN:VCALENDAR
VERSION:2.0
PRODID:-//jEvents 1.5 for Joomla//EN
BEGIN:VEVENT
UID:92feeedaa30ed6e33ad84972a8b60e9d
CATEGORIES:Condiviso
SUMMARY:Incontro online laboratorio OFS - GiFra - Araldini
LOCATION:
DESCRIPTION;ENCODING=QUOTED-PRINTABLE:\n\n\n

DTSTAMP:20260421T115352
DTSTART:20220401T203000
DTEND:20220401T150000
SEQUENCE:0
TRANSP:OPAQUE
END:VEVENT
END:VCALENDAR