BEGIN:VCALENDAR
VERSION:2.0
PRODID:-//jEvents 1.5 for Joomla//EN
BEGIN:VEVENT
UID:d9bf4523922c0d49bde1cebd1ae700fd
CATEGORIES:Condiviso
SUMMARY:Incontro online Laboratorio Economia
LOCATION:
DESCRIPTION;ENCODING=QUOTED-PRINTABLE:\n\n\n

DTSTAMP:20260421T115352
DTSTART:20220407T090000
DTEND:20220409T150000
SEQUENCE:0
TRANSP:OPAQUE
END:VEVENT
END:VCALENDAR