BEGIN:VCALENDAR
VERSION:2.0
PRODID:-//jEvents 1.5 for Joomla//EN
BEGIN:VEVENT
UID:1625fdd05488f5bb265579b3a8e86444
CATEGORIES:Condiviso
SUMMARY:Incontro Laboratorio Pastorale Giovanile e Vocazionale
LOCATION:
DESCRIPTION;ENCODING=QUOTED-PRINTABLE:\n\n\n

DTSTAMP:20260421T094041
DTSTART:20230530T000000
DTEND:20230602T235959
SEQUENCE:0
TRANSP:OPAQUE
END:VEVENT
END:VCALENDAR