BEGIN:VCALENDAR
VERSION:2.0
PRODID:-//jEvents 1.5 for Joomla//EN
BEGIN:VEVENT
UID:ea82f5b4ef98126102b844e63503b653
CATEGORIES:Condiviso
SUMMARY:Unificazione Province di Sicilia
LOCATION:
DESCRIPTION;ENCODING=QUOTED-PRINTABLE:\n\n\n

DTSTAMP:20260421T151056
DTSTART:20221020T000000
DTEND:20221020T235959
SEQUENCE:0
TRANSP:OPAQUE
END:VEVENT
END:VCALENDAR