BEGIN:VCALENDAR
VERSION:2.0
PRODID:-//jEvents 1.5 for Joomla//EN
BEGIN:VEVENT
UID:83814fa0112a6534b388b8ae549282e2
CATEGORIES:Condiviso
SUMMARY:Incontro nazionale rappresentanti studenti e Postnovizi
LOCATION:Viterbo
DESCRIPTION;ENCODING=QUOTED-PRINTABLE:\n\n\n

DTSTAMP:20260421T063617
DTSTART:20220506T000000
DTEND:20220508T235959
SEQUENCE:0
TRANSP:OPAQUE
END:VEVENT
END:VCALENDAR