BEGIN:VCALENDAR
VERSION:2.0
PRODID:-//jEvents 1.5 for Joomla//EN
BEGIN:VEVENT
UID:6c0370046401b85ea9a39fc21452a70c
CATEGORIES:Condiviso
SUMMARY:154ª Assemblea CIMPCap
LOCATION:
DESCRIPTION;ENCODING=QUOTED-PRINTABLE:\n\n\n

DTSTAMP:20260421T170353
DTSTART:20221111T000000
DTEND:20221113T235959
SEQUENCE:0
TRANSP:OPAQUE
END:VEVENT
END:VCALENDAR