BEGIN:VCALENDAR
VERSION:2.0
PRODID:-//jEvents 1.5 for Joomla//EN
BEGIN:VEVENT
UID:d9a50412a0d9c21a5dd4cfe970ed0a85
CATEGORIES:Condiviso
SUMMARY:Incontro Formatori d'Europa
LOCATION:Roma - Collegio Internazionale S. Lorenzo da Brindisi
DESCRIPTION;ENCODING=QUOTED-PRINTABLE:\n\n\n

DTSTAMP:20260423T130808
DTSTART:20220926T000000
DTEND:20220930T235959
SEQUENCE:0
TRANSP:OPAQUE
END:VEVENT
END:VCALENDAR