BEGIN:VCALENDAR
VERSION:2.0
PRODID:-//jEvents 1.5 for Joomla//EN
BEGIN:VEVENT
UID:389f1d878950aaf6c48e1eb351255079
CATEGORIES:Condiviso
SUMMARY: L’EVOLUZIONE DEL CONCETTO DI MISTICA CRISTIANA: TRACCE DI PASSATO, PRESENTE E FUTURO. 
LOCATION:
DESCRIPTION;ENCODING=QUOTED-PRINTABLE:\nScarica in PDF la brochure\n\n

DTSTAMP:20260421T151225
DTSTART:20221007T000000
DTEND:20221008T235959
SEQUENCE:0
TRANSP:OPAQUE
END:VEVENT
END:VCALENDAR