BEGIN:VCALENDAR
VERSION:2.0
PRODID:-//jEvents 1.5 for Joomla//EN
BEGIN:VEVENT
UID:f15af82e7d98bf6e71335e31c3c16d0a
CATEGORIES:Condiviso
SUMMARY:Convegno dei formatori
LOCATION:Assisi - Domus Laetitiae
DESCRIPTION;ENCODING=QUOTED-PRINTABLE:\n\n\n

DTSTAMP:20260421T183152
DTSTART:20230123T000000
DTEND:20230127T235959
SEQUENCE:0
TRANSP:OPAQUE
END:VEVENT
END:VCALENDAR