BEGIN:VCALENDAR
VERSION:2.0
PRODID:-//jEvents 1.5 for Joomla//EN
BEGIN:VEVENT
UID:6e77e76363a9a14513cdc5a636130459
CATEGORIES:Condiviso
SUMMARY:Laboratorio Comunicazione - Segretariato Fraternità-Missione OFMCap 
LOCATION:
DESCRIPTION;ENCODING=QUOTED-PRINTABLE:\n\n\n
CONTACT:https://fraternitamissione.wordpress.com/

DTSTAMP:20260421T170914
DTSTART:20221122T000000
DTEND:20221122T235959
SEQUENCE:0
TRANSP:OPAQUE
END:VEVENT
END:VCALENDAR