BEGIN:VCALENDAR
VERSION:2.0
PRODID:-//jEvents 1.5 for Joomla//EN
BEGIN:VEVENT
UID:e5bc47133c1e1bb325354bc6340dcaf8
CATEGORIES:Condiviso
SUMMARY:Laboratorio Laudato si’- Segretariato Fraternità-Missione OFMCap 
LOCATION:
DESCRIPTION;ENCODING=QUOTED-PRINTABLE:\n\n\n
CONTACT:https://fraternitamissione.wordpress.com/

DTSTAMP:20260423T133207
DTSTART:20230418T000000
DTEND:20230418T235959
SEQUENCE:0
TRANSP:OPAQUE
END:VEVENT
END:VCALENDAR