BEGIN:VCALENDAR
VERSION:2.0
PRODID:-//jEvents 1.5 for Joomla//EN
BEGIN:VEVENT
UID:bc4e696accd8762f7617788a9a3cdd41
CATEGORIES:Condiviso
SUMMARY:Laboratorio pastorale della carità - Segretariato Fraternità-Missione OFMCap 
LOCATION:
DESCRIPTION;ENCODING=QUOTED-PRINTABLE:\n\n\n
CONTACT:https://fraternitamissione.wordpress.com/

DTSTAMP:20260421T151132
DTSTART:20230301T000000
DTEND:20230301T235959
SEQUENCE:0
TRANSP:OPAQUE
END:VEVENT
END:VCALENDAR