BEGIN:VCALENDAR
VERSION:2.0
PRODID:-//jEvents 1.5 for Joomla//EN
BEGIN:VEVENT
UID:4bfb7a3015164e53fa72c853a7bfa1ca
CATEGORIES:Condiviso
SUMMARY:Laboratorio Pastorale della salute - Segretariato Fraternità-Missione OFMCap 
LOCATION:
DESCRIPTION;ENCODING=QUOTED-PRINTABLE:\n\n\n
CONTACT:https://fraternitamissione.wordpress.com/

DTSTAMP:20260421T151130
DTSTART:20230322T000000
DTEND:20230323T235959
SEQUENCE:0
TRANSP:OPAQUE
END:VEVENT
END:VCALENDAR