BEGIN:VCALENDAR
VERSION:2.0
PRODID:-//jEvents 1.5 for Joomla//EN
BEGIN:VEVENT
UID:cb582fc712148f7e09871f406faeac91
CATEGORIES:Condiviso
SUMMARY:"Gianfranco Chiti" - Il granatiere al servizio di Dio
LOCATION:
DESCRIPTION;ENCODING=QUOTED-PRINTABLE:\n\n\n\nL'Associazione Allievi di Padre Chiti, in collaborazione con Unione
  Nazionale Sottufficiali Italiani e l'Amministrazione Comunale della città
  di Forlì, organizzano una Mostra Storico Didattica per far conoscere la v
 ita di Padre Gianfranco Maria Chiti da Gignese.\n\n\nLa mostra sarà inaugu
 rata il 11 marzo 2023 alle ore 10.00, presso il Sacrario dei Caduti in Cors
 o Diaz 95 a Forli. La Mostra resterà aperta tutti i sabato e domeniche fin
 o al 26 marzo 2023. Su richiesta e appuntamento saranno organizzate Visite 
 Guidate dal lunedì al venerdi. Padre Chiti, da Generale dei Granatieri a S
 ervo di Dio. L'evento si prefigge di diffondere la storia di questo grande 
 uomo nella contemporaneità, mostrando e raccontando ciò che ha saputo far
 e della sua vita di Fede e Misericordia al servizio del bene comune.\n

DTSTAMP:20260421T151135
DTSTART:20230311T000000
DTEND:20230326T235959
SEQUENCE:0
TRANSP:OPAQUE
END:VEVENT
END:VCALENDAR