BEGIN:VCALENDAR
VERSION:2.0
PRODID:-//jEvents 1.5 for Joomla//EN
BEGIN:VEVENT
UID:2d2bbab65f25a2bcb28e9f690afc5901
CATEGORIES:Condiviso
SUMMARY:Assemblea CEMCap
LOCATION:
DESCRIPTION;ENCODING=QUOTED-PRINTABLE:\n\n\n

DTSTAMP:20260421T094129
DTSTART:20230622T000000
DTEND:20230624T235959
SEQUENCE:0
TRANSP:OPAQUE
END:VEVENT
END:VCALENDAR