BEGIN:VCALENDAR
VERSION:2.0
PRODID:-//jEvents 1.5 for Joomla//EN
BEGIN:VEVENT
UID:0a2c66d0f6d6db657841d0125f5711bd
CATEGORIES:Condiviso
SUMMARY:“La fragilità della casa comune risveglia la fraternità degli aiuti”
LOCATION:
DESCRIPTION;ENCODING=QUOTED-PRINTABLE:\nA  oltre un mese dal terribile sisma che ha colpito Turchia e Siria,  Mer
 coledì 29 marzo si terrà il webinar online “La fragilità della casa  c
 omune risveglia la fraternità degli aiuti”. Ospiti dell’incontro i  fr
 ancescani padre Bahjat Elia Karakach, parroco di Aleppo, e padre  Francis D
 ondu, parroco di Antiochia. Dialogherà con loro Mario Galasso,  direttore 
 Caritas Rimini e membro della Presidenza Caritas Italiana.\n\nIl webinar sa
 rà trasmesso onlineÂÂ alleÂÂ oreÂÂ 20.30.\nÂÂ \n\n\nAd Aleppo,
  città segnata da quasi tredici anni di guerra, dalla  pandemia e dalla po
 vertà, la paura e lo sconforto sono rimaste, insieme  alle macerie, a fare
  compagnia agli abitanti. La speranza di una  ricostruzione veloce non trov
 a spazio nella realtà. Il timore di crolli è  tangibile. Nel frattempo, i
  centri di accoglienza allestiti dalle  autorità locali sono pieni e la co
 nvivenza è difficile. \n\nAnche la  città di Antiochia, cuore del cristia
 nesimo turco e tra le zone più  colpite dal sisma del 6 febbraio scorso, s
 i trova nella stessa difficile  situazione. Qui gli aiuti, nei primi giorni
 , sono arrivati massicci da  ogni parte del mondo e questo ha fatto sentire
  gli abitanti meno soli.  Ma il rischio è quello di essere lentamente dime
 nticati. \nMentre  continuano gli interventi di emergenza di enti, organism
 i caritativi e  associazioni, in prima linea nell’impegno solidale vi son
 o – sia sul  posto, sia avvalendosi della rete di comunità in tutto il m
 ondo – le  fraternità francescane di religiosi e laici.\n\nDella situazi
 one attuale e di questi progetti di solidarietà e fraternità ne parlerann
 o appunto padre Karakach e padre Dondu.\n\n\nÂÂ \nVieni ad ascoltare le 
 loro intense testimonianze?\n\n\n(Fonte https://www.festivalfrancescano.it/
 la-fragilita-della-casa-comune-risveglia-la-fraternita-degli-aiuti/ )\n

DTSTAMP:20260421T151136
DTSTART:20230329T203000
DTEND:20230329T150000
SEQUENCE:0
TRANSP:OPAQUE
END:VEVENT
END:VCALENDAR