BEGIN:VCALENDAR
VERSION:2.0
PRODID:-//jEvents 1.5 for Joomla//EN
BEGIN:VEVENT
UID:3e782874f898345a32db87a704659d5c
CATEGORIES:Condiviso
SUMMARY:Convegno - DE HABITUDINE ORDINIS AD ARTEM
LOCATION:
DESCRIPTION;ENCODING=QUOTED-PRINTABLE:\nScarica il programma in PDF\n

DTSTAMP:20260423T133448
DTSTART:20230412T000000
DTEND:20230414T235959
SEQUENCE:0
TRANSP:OPAQUE
END:VEVENT
END:VCALENDAR