BEGIN:VCALENDAR
VERSION:2.0
PRODID:-//jEvents 1.5 for Joomla//EN
BEGIN:VEVENT
UID:2377e3651d8673954ba3282b5423c60f
CATEGORIES:Condiviso
SUMMARY:Laboratorio Ofs - Gifra
LOCATION:
DESCRIPTION;ENCODING=QUOTED-PRINTABLE:\nScarica il volantino in PDF\n\n

DTSTAMP:20260421T082217
DTSTART:20230529T000000
DTEND:20230530T235959
SEQUENCE:0
TRANSP:OPAQUE
END:VEVENT
END:VCALENDAR