BEGIN:VCALENDAR
VERSION:2.0
PRODID:-//jEvents 1.5 for Joomla//EN
BEGIN:VEVENT
UID:6fd5ab9e36eb785aa7443b6d852ff29e
CATEGORIES:Condiviso
SUMMARY:Convegno di Economia Francescana
LOCATION:Roma
DESCRIPTION;ENCODING=QUOTED-PRINTABLE:\nScarica qui il depliant\n\n

DTSTAMP:20260421T183119
DTSTART:20231113T000000
DTEND:20231116T235959
SEQUENCE:0
TRANSP:OPAQUE
END:VEVENT
END:VCALENDAR